BEGIN:VCALENDAR
VERSION:2.0
PRODID:-//Stadsboerderij Osdorp - ECPv6.15.17.1//NONSGML v1.0//EN
CALSCALE:GREGORIAN
METHOD:PUBLISH
X-WR-CALNAME:Stadsboerderij Osdorp
X-ORIGINAL-URL:https://stadsboerderijosdorp.nl
X-WR-CALDESC:Evenementen voor Stadsboerderij Osdorp
REFRESH-INTERVAL;VALUE=DURATION:PT1H
X-Robots-Tag:noindex
X-PUBLISHED-TTL:PT1H
BEGIN:VTIMEZONE
TZID:Europe/Amsterdam
BEGIN:DAYLIGHT
TZOFFSETFROM:+0100
TZOFFSETTO:+0200
TZNAME:CEST
DTSTART:20290325T010000
END:DAYLIGHT
BEGIN:STANDARD
TZOFFSETFROM:+0200
TZOFFSETTO:+0100
TZNAME:CET
DTSTART:20291028T010000
END:STANDARD
BEGIN:DAYLIGHT
TZOFFSETFROM:+0100
TZOFFSETTO:+0200
TZNAME:CEST
DTSTART:20300331T010000
END:DAYLIGHT
BEGIN:STANDARD
TZOFFSETFROM:+0200
TZOFFSETTO:+0100
TZNAME:CET
DTSTART:20301027T010000
END:STANDARD
BEGIN:DAYLIGHT
TZOFFSETFROM:+0100
TZOFFSETTO:+0200
TZNAME:CEST
DTSTART:20310330T010000
END:DAYLIGHT
BEGIN:STANDARD
TZOFFSETFROM:+0200
TZOFFSETTO:+0100
TZNAME:CET
DTSTART:20311026T010000
END:STANDARD
END:VTIMEZONE
BEGIN:VEVENT
DTSTART;TZID=Europe/Amsterdam:20300320T093000
DTEND;TZID=Europe/Amsterdam:20300320T113000
DTSTAMP:20260421T043155
CREATED:20240508T140652Z
LAST-MODIFIED:20250827T172715Z
UID:10018405-1900229400-1900236600@stadsboerderijosdorp.nl
SUMMARY:Ouder- en Kindochtend voor de allerkleinsten
DESCRIPTION:Inloop tussen 9.30 en 9.45 uur. Aanmelden is niet nodig. \nNeem ajb een stukje fruit mee\, dit delen de kinderen aan het einde van de ochtend.
URL:https://stadsboerderijosdorp.nl/event/ouder-en-kindochtend-voor-de-allerkleinsten-3/2030-03-20/
LOCATION:Stadsboerderij Osdorp\, Botteskerksingel 30b\, Amsterdam\, 1069 XT \, Nederland
CATEGORIES:Kinderen
ATTACH;FMTTYPE=image/jpeg:https://stadsboerderijosdorp.nl/wp-content/uploads/2021/05/huisregels-sep22-pdf.jpg
ORGANIZER;CN="Stadsboerderij Osdorp":MAILTO:info@stadsboerderijosdorp.nl
END:VEVENT
BEGIN:VEVENT
DTSTART;TZID=Europe/Amsterdam:20300327T093000
DTEND;TZID=Europe/Amsterdam:20300327T113000
DTSTAMP:20260421T043155
CREATED:20240508T140652Z
LAST-MODIFIED:20250827T172715Z
UID:10018406-1900834200-1900841400@stadsboerderijosdorp.nl
SUMMARY:Ouder- en Kindochtend voor de allerkleinsten
DESCRIPTION:Inloop tussen 9.30 en 9.45 uur. Aanmelden is niet nodig. \nNeem ajb een stukje fruit mee\, dit delen de kinderen aan het einde van de ochtend.
URL:https://stadsboerderijosdorp.nl/event/ouder-en-kindochtend-voor-de-allerkleinsten-3/2030-03-27/
LOCATION:Stadsboerderij Osdorp\, Botteskerksingel 30b\, Amsterdam\, 1069 XT \, Nederland
CATEGORIES:Kinderen
ATTACH;FMTTYPE=image/jpeg:https://stadsboerderijosdorp.nl/wp-content/uploads/2021/05/huisregels-sep22-pdf.jpg
ORGANIZER;CN="Stadsboerderij Osdorp":MAILTO:info@stadsboerderijosdorp.nl
END:VEVENT
BEGIN:VEVENT
DTSTART;TZID=Europe/Amsterdam:20300403T093000
DTEND;TZID=Europe/Amsterdam:20300403T113000
DTSTAMP:20260421T043155
CREATED:20240508T140652Z
LAST-MODIFIED:20250827T172715Z
UID:10018407-1901439000-1901446200@stadsboerderijosdorp.nl
SUMMARY:Ouder- en Kindochtend voor de allerkleinsten
DESCRIPTION:Inloop tussen 9.30 en 9.45 uur. Aanmelden is niet nodig. \nNeem ajb een stukje fruit mee\, dit delen de kinderen aan het einde van de ochtend.
URL:https://stadsboerderijosdorp.nl/event/ouder-en-kindochtend-voor-de-allerkleinsten-3/2030-04-03/
LOCATION:Stadsboerderij Osdorp\, Botteskerksingel 30b\, Amsterdam\, 1069 XT \, Nederland
CATEGORIES:Kinderen
ATTACH;FMTTYPE=image/jpeg:https://stadsboerderijosdorp.nl/wp-content/uploads/2021/05/huisregels-sep22-pdf.jpg
ORGANIZER;CN="Stadsboerderij Osdorp":MAILTO:info@stadsboerderijosdorp.nl
END:VEVENT
BEGIN:VEVENT
DTSTART;TZID=Europe/Amsterdam:20300410T093000
DTEND;TZID=Europe/Amsterdam:20300410T113000
DTSTAMP:20260421T043155
CREATED:20240508T140652Z
LAST-MODIFIED:20250827T172715Z
UID:10018408-1902043800-1902051000@stadsboerderijosdorp.nl
SUMMARY:Ouder- en Kindochtend voor de allerkleinsten
DESCRIPTION:Inloop tussen 9.30 en 9.45 uur. Aanmelden is niet nodig. \nNeem ajb een stukje fruit mee\, dit delen de kinderen aan het einde van de ochtend.
URL:https://stadsboerderijosdorp.nl/event/ouder-en-kindochtend-voor-de-allerkleinsten-3/2030-04-10/
LOCATION:Stadsboerderij Osdorp\, Botteskerksingel 30b\, Amsterdam\, 1069 XT \, Nederland
CATEGORIES:Kinderen
ATTACH;FMTTYPE=image/jpeg:https://stadsboerderijosdorp.nl/wp-content/uploads/2021/05/huisregels-sep22-pdf.jpg
ORGANIZER;CN="Stadsboerderij Osdorp":MAILTO:info@stadsboerderijosdorp.nl
END:VEVENT
BEGIN:VEVENT
DTSTART;TZID=Europe/Amsterdam:20300417T093000
DTEND;TZID=Europe/Amsterdam:20300417T113000
DTSTAMP:20260421T043155
CREATED:20240508T140652Z
LAST-MODIFIED:20250827T172715Z
UID:10018409-1902648600-1902655800@stadsboerderijosdorp.nl
SUMMARY:Ouder- en Kindochtend voor de allerkleinsten
DESCRIPTION:Inloop tussen 9.30 en 9.45 uur. Aanmelden is niet nodig. \nNeem ajb een stukje fruit mee\, dit delen de kinderen aan het einde van de ochtend.
URL:https://stadsboerderijosdorp.nl/event/ouder-en-kindochtend-voor-de-allerkleinsten-3/2030-04-17/
LOCATION:Stadsboerderij Osdorp\, Botteskerksingel 30b\, Amsterdam\, 1069 XT \, Nederland
CATEGORIES:Kinderen
ATTACH;FMTTYPE=image/jpeg:https://stadsboerderijosdorp.nl/wp-content/uploads/2021/05/huisregels-sep22-pdf.jpg
ORGANIZER;CN="Stadsboerderij Osdorp":MAILTO:info@stadsboerderijosdorp.nl
END:VEVENT
BEGIN:VEVENT
DTSTART;TZID=Europe/Amsterdam:20300424T093000
DTEND;TZID=Europe/Amsterdam:20300424T113000
DTSTAMP:20260421T043155
CREATED:20240508T140652Z
LAST-MODIFIED:20250827T172715Z
UID:10018410-1903253400-1903260600@stadsboerderijosdorp.nl
SUMMARY:Ouder- en Kindochtend voor de allerkleinsten
DESCRIPTION:Inloop tussen 9.30 en 9.45 uur. Aanmelden is niet nodig. \nNeem ajb een stukje fruit mee\, dit delen de kinderen aan het einde van de ochtend.
URL:https://stadsboerderijosdorp.nl/event/ouder-en-kindochtend-voor-de-allerkleinsten-3/2030-04-24/
LOCATION:Stadsboerderij Osdorp\, Botteskerksingel 30b\, Amsterdam\, 1069 XT \, Nederland
CATEGORIES:Kinderen
ATTACH;FMTTYPE=image/jpeg:https://stadsboerderijosdorp.nl/wp-content/uploads/2021/05/huisregels-sep22-pdf.jpg
ORGANIZER;CN="Stadsboerderij Osdorp":MAILTO:info@stadsboerderijosdorp.nl
END:VEVENT
BEGIN:VEVENT
DTSTART;TZID=Europe/Amsterdam:20300501T093000
DTEND;TZID=Europe/Amsterdam:20300501T113000
DTSTAMP:20260421T043155
CREATED:20240508T140652Z
LAST-MODIFIED:20250827T172715Z
UID:10018411-1903858200-1903865400@stadsboerderijosdorp.nl
SUMMARY:Ouder- en Kindochtend voor de allerkleinsten
DESCRIPTION:Inloop tussen 9.30 en 9.45 uur. Aanmelden is niet nodig. \nNeem ajb een stukje fruit mee\, dit delen de kinderen aan het einde van de ochtend.
URL:https://stadsboerderijosdorp.nl/event/ouder-en-kindochtend-voor-de-allerkleinsten-3/2030-05-01/
LOCATION:Stadsboerderij Osdorp\, Botteskerksingel 30b\, Amsterdam\, 1069 XT \, Nederland
CATEGORIES:Kinderen
ATTACH;FMTTYPE=image/jpeg:https://stadsboerderijosdorp.nl/wp-content/uploads/2021/05/huisregels-sep22-pdf.jpg
ORGANIZER;CN="Stadsboerderij Osdorp":MAILTO:info@stadsboerderijosdorp.nl
END:VEVENT
BEGIN:VEVENT
DTSTART;TZID=Europe/Amsterdam:20300508T093000
DTEND;TZID=Europe/Amsterdam:20300508T113000
DTSTAMP:20260421T043155
CREATED:20240508T140652Z
LAST-MODIFIED:20250827T172715Z
UID:10018412-1904463000-1904470200@stadsboerderijosdorp.nl
SUMMARY:Ouder- en Kindochtend voor de allerkleinsten
DESCRIPTION:Inloop tussen 9.30 en 9.45 uur. Aanmelden is niet nodig. \nNeem ajb een stukje fruit mee\, dit delen de kinderen aan het einde van de ochtend.
URL:https://stadsboerderijosdorp.nl/event/ouder-en-kindochtend-voor-de-allerkleinsten-3/2030-05-08/
LOCATION:Stadsboerderij Osdorp\, Botteskerksingel 30b\, Amsterdam\, 1069 XT \, Nederland
CATEGORIES:Kinderen
ATTACH;FMTTYPE=image/jpeg:https://stadsboerderijosdorp.nl/wp-content/uploads/2021/05/huisregels-sep22-pdf.jpg
ORGANIZER;CN="Stadsboerderij Osdorp":MAILTO:info@stadsboerderijosdorp.nl
END:VEVENT
BEGIN:VEVENT
DTSTART;TZID=Europe/Amsterdam:20300515T093000
DTEND;TZID=Europe/Amsterdam:20300515T113000
DTSTAMP:20260421T043155
CREATED:20240508T140652Z
LAST-MODIFIED:20250827T172715Z
UID:10018413-1905067800-1905075000@stadsboerderijosdorp.nl
SUMMARY:Ouder- en Kindochtend voor de allerkleinsten
DESCRIPTION:Inloop tussen 9.30 en 9.45 uur. Aanmelden is niet nodig. \nNeem ajb een stukje fruit mee\, dit delen de kinderen aan het einde van de ochtend.
URL:https://stadsboerderijosdorp.nl/event/ouder-en-kindochtend-voor-de-allerkleinsten-3/2030-05-15/
LOCATION:Stadsboerderij Osdorp\, Botteskerksingel 30b\, Amsterdam\, 1069 XT \, Nederland
CATEGORIES:Kinderen
ATTACH;FMTTYPE=image/jpeg:https://stadsboerderijosdorp.nl/wp-content/uploads/2021/05/huisregels-sep22-pdf.jpg
ORGANIZER;CN="Stadsboerderij Osdorp":MAILTO:info@stadsboerderijosdorp.nl
END:VEVENT
BEGIN:VEVENT
DTSTART;TZID=Europe/Amsterdam:20300522T093000
DTEND;TZID=Europe/Amsterdam:20300522T113000
DTSTAMP:20260421T043155
CREATED:20240508T140652Z
LAST-MODIFIED:20250827T172715Z
UID:10018414-1905672600-1905679800@stadsboerderijosdorp.nl
SUMMARY:Ouder- en Kindochtend voor de allerkleinsten
DESCRIPTION:Inloop tussen 9.30 en 9.45 uur. Aanmelden is niet nodig. \nNeem ajb een stukje fruit mee\, dit delen de kinderen aan het einde van de ochtend.
URL:https://stadsboerderijosdorp.nl/event/ouder-en-kindochtend-voor-de-allerkleinsten-3/2030-05-22/
LOCATION:Stadsboerderij Osdorp\, Botteskerksingel 30b\, Amsterdam\, 1069 XT \, Nederland
CATEGORIES:Kinderen
ATTACH;FMTTYPE=image/jpeg:https://stadsboerderijosdorp.nl/wp-content/uploads/2021/05/huisregels-sep22-pdf.jpg
ORGANIZER;CN="Stadsboerderij Osdorp":MAILTO:info@stadsboerderijosdorp.nl
END:VEVENT
BEGIN:VEVENT
DTSTART;TZID=Europe/Amsterdam:20300529T093000
DTEND;TZID=Europe/Amsterdam:20300529T113000
DTSTAMP:20260421T043155
CREATED:20240508T140652Z
LAST-MODIFIED:20250827T172715Z
UID:10018415-1906277400-1906284600@stadsboerderijosdorp.nl
SUMMARY:Ouder- en Kindochtend voor de allerkleinsten
DESCRIPTION:Inloop tussen 9.30 en 9.45 uur. Aanmelden is niet nodig. \nNeem ajb een stukje fruit mee\, dit delen de kinderen aan het einde van de ochtend.
URL:https://stadsboerderijosdorp.nl/event/ouder-en-kindochtend-voor-de-allerkleinsten-3/2030-05-29/
LOCATION:Stadsboerderij Osdorp\, Botteskerksingel 30b\, Amsterdam\, 1069 XT \, Nederland
CATEGORIES:Kinderen
ATTACH;FMTTYPE=image/jpeg:https://stadsboerderijosdorp.nl/wp-content/uploads/2021/05/huisregels-sep22-pdf.jpg
ORGANIZER;CN="Stadsboerderij Osdorp":MAILTO:info@stadsboerderijosdorp.nl
END:VEVENT
BEGIN:VEVENT
DTSTART;TZID=Europe/Amsterdam:20300605T093000
DTEND;TZID=Europe/Amsterdam:20300605T113000
DTSTAMP:20260421T043155
CREATED:20240508T140652Z
LAST-MODIFIED:20250827T172715Z
UID:10019043-1906882200-1906889400@stadsboerderijosdorp.nl
SUMMARY:Ouder- en Kindochtend voor de allerkleinsten
DESCRIPTION:Inloop tussen 9.30 en 9.45 uur. Aanmelden is niet nodig. \nNeem ajb een stukje fruit mee\, dit delen de kinderen aan het einde van de ochtend.
URL:https://stadsboerderijosdorp.nl/event/ouder-en-kindochtend-voor-de-allerkleinsten-3/2030-06-05/
LOCATION:Stadsboerderij Osdorp\, Botteskerksingel 30b\, Amsterdam\, 1069 XT \, Nederland
CATEGORIES:Kinderen
ATTACH;FMTTYPE=image/jpeg:https://stadsboerderijosdorp.nl/wp-content/uploads/2021/05/huisregels-sep22-pdf.jpg
ORGANIZER;CN="Stadsboerderij Osdorp":MAILTO:info@stadsboerderijosdorp.nl
END:VEVENT
BEGIN:VEVENT
DTSTART;TZID=Europe/Amsterdam:20300612T093000
DTEND;TZID=Europe/Amsterdam:20300612T113000
DTSTAMP:20260421T043155
CREATED:20240508T140652Z
LAST-MODIFIED:20250827T172715Z
UID:10019044-1907487000-1907494200@stadsboerderijosdorp.nl
SUMMARY:Ouder- en Kindochtend voor de allerkleinsten
DESCRIPTION:Inloop tussen 9.30 en 9.45 uur. Aanmelden is niet nodig. \nNeem ajb een stukje fruit mee\, dit delen de kinderen aan het einde van de ochtend.
URL:https://stadsboerderijosdorp.nl/event/ouder-en-kindochtend-voor-de-allerkleinsten-3/2030-06-12/
LOCATION:Stadsboerderij Osdorp\, Botteskerksingel 30b\, Amsterdam\, 1069 XT \, Nederland
CATEGORIES:Kinderen
ATTACH;FMTTYPE=image/jpeg:https://stadsboerderijosdorp.nl/wp-content/uploads/2021/05/huisregels-sep22-pdf.jpg
ORGANIZER;CN="Stadsboerderij Osdorp":MAILTO:info@stadsboerderijosdorp.nl
END:VEVENT
BEGIN:VEVENT
DTSTART;TZID=Europe/Amsterdam:20300619T093000
DTEND;TZID=Europe/Amsterdam:20300619T113000
DTSTAMP:20260421T043155
CREATED:20240508T140652Z
LAST-MODIFIED:20250827T172715Z
UID:10019045-1908091800-1908099000@stadsboerderijosdorp.nl
SUMMARY:Ouder- en Kindochtend voor de allerkleinsten
DESCRIPTION:Inloop tussen 9.30 en 9.45 uur. Aanmelden is niet nodig. \nNeem ajb een stukje fruit mee\, dit delen de kinderen aan het einde van de ochtend.
URL:https://stadsboerderijosdorp.nl/event/ouder-en-kindochtend-voor-de-allerkleinsten-3/2030-06-19/
LOCATION:Stadsboerderij Osdorp\, Botteskerksingel 30b\, Amsterdam\, 1069 XT \, Nederland
CATEGORIES:Kinderen
ATTACH;FMTTYPE=image/jpeg:https://stadsboerderijosdorp.nl/wp-content/uploads/2021/05/huisregels-sep22-pdf.jpg
ORGANIZER;CN="Stadsboerderij Osdorp":MAILTO:info@stadsboerderijosdorp.nl
END:VEVENT
BEGIN:VEVENT
DTSTART;TZID=Europe/Amsterdam:20300626T093000
DTEND;TZID=Europe/Amsterdam:20300626T113000
DTSTAMP:20260421T043155
CREATED:20240508T140652Z
LAST-MODIFIED:20250827T172715Z
UID:10019046-1908696600-1908703800@stadsboerderijosdorp.nl
SUMMARY:Ouder- en Kindochtend voor de allerkleinsten
DESCRIPTION:Inloop tussen 9.30 en 9.45 uur. Aanmelden is niet nodig. \nNeem ajb een stukje fruit mee\, dit delen de kinderen aan het einde van de ochtend.
URL:https://stadsboerderijosdorp.nl/event/ouder-en-kindochtend-voor-de-allerkleinsten-3/2030-06-26/
LOCATION:Stadsboerderij Osdorp\, Botteskerksingel 30b\, Amsterdam\, 1069 XT \, Nederland
CATEGORIES:Kinderen
ATTACH;FMTTYPE=image/jpeg:https://stadsboerderijosdorp.nl/wp-content/uploads/2021/05/huisregels-sep22-pdf.jpg
ORGANIZER;CN="Stadsboerderij Osdorp":MAILTO:info@stadsboerderijosdorp.nl
END:VEVENT
BEGIN:VEVENT
DTSTART;TZID=Europe/Amsterdam:20300703T093000
DTEND;TZID=Europe/Amsterdam:20300703T113000
DTSTAMP:20260421T043155
CREATED:20240508T140652Z
LAST-MODIFIED:20250827T172715Z
UID:10019047-1909301400-1909308600@stadsboerderijosdorp.nl
SUMMARY:Ouder- en Kindochtend voor de allerkleinsten
DESCRIPTION:Inloop tussen 9.30 en 9.45 uur. Aanmelden is niet nodig. \nNeem ajb een stukje fruit mee\, dit delen de kinderen aan het einde van de ochtend.
URL:https://stadsboerderijosdorp.nl/event/ouder-en-kindochtend-voor-de-allerkleinsten-3/2030-07-03/
LOCATION:Stadsboerderij Osdorp\, Botteskerksingel 30b\, Amsterdam\, 1069 XT \, Nederland
CATEGORIES:Kinderen
ATTACH;FMTTYPE=image/jpeg:https://stadsboerderijosdorp.nl/wp-content/uploads/2021/05/huisregels-sep22-pdf.jpg
ORGANIZER;CN="Stadsboerderij Osdorp":MAILTO:info@stadsboerderijosdorp.nl
END:VEVENT
BEGIN:VEVENT
DTSTART;TZID=Europe/Amsterdam:20300710T093000
DTEND;TZID=Europe/Amsterdam:20300710T113000
DTSTAMP:20260421T043155
CREATED:20240508T140652Z
LAST-MODIFIED:20250827T172715Z
UID:10019053-1909906200-1909913400@stadsboerderijosdorp.nl
SUMMARY:Ouder- en Kindochtend voor de allerkleinsten
DESCRIPTION:Inloop tussen 9.30 en 9.45 uur. Aanmelden is niet nodig. \nNeem ajb een stukje fruit mee\, dit delen de kinderen aan het einde van de ochtend.
URL:https://stadsboerderijosdorp.nl/event/ouder-en-kindochtend-voor-de-allerkleinsten-3/2030-07-10/
LOCATION:Stadsboerderij Osdorp\, Botteskerksingel 30b\, Amsterdam\, 1069 XT \, Nederland
CATEGORIES:Kinderen
ATTACH;FMTTYPE=image/jpeg:https://stadsboerderijosdorp.nl/wp-content/uploads/2021/05/huisregels-sep22-pdf.jpg
ORGANIZER;CN="Stadsboerderij Osdorp":MAILTO:info@stadsboerderijosdorp.nl
END:VEVENT
BEGIN:VEVENT
DTSTART;TZID=Europe/Amsterdam:20300717T093000
DTEND;TZID=Europe/Amsterdam:20300717T113000
DTSTAMP:20260421T043155
CREATED:20240508T140652Z
LAST-MODIFIED:20250827T172715Z
UID:10019055-1910511000-1910518200@stadsboerderijosdorp.nl
SUMMARY:Ouder- en Kindochtend voor de allerkleinsten
DESCRIPTION:Inloop tussen 9.30 en 9.45 uur. Aanmelden is niet nodig. \nNeem ajb een stukje fruit mee\, dit delen de kinderen aan het einde van de ochtend.
URL:https://stadsboerderijosdorp.nl/event/ouder-en-kindochtend-voor-de-allerkleinsten-3/2030-07-17/
LOCATION:Stadsboerderij Osdorp\, Botteskerksingel 30b\, Amsterdam\, 1069 XT \, Nederland
CATEGORIES:Kinderen
ATTACH;FMTTYPE=image/jpeg:https://stadsboerderijosdorp.nl/wp-content/uploads/2021/05/huisregels-sep22-pdf.jpg
ORGANIZER;CN="Stadsboerderij Osdorp":MAILTO:info@stadsboerderijosdorp.nl
END:VEVENT
BEGIN:VEVENT
DTSTART;TZID=Europe/Amsterdam:20300724T093000
DTEND;TZID=Europe/Amsterdam:20300724T113000
DTSTAMP:20260421T043155
CREATED:20240508T140652Z
LAST-MODIFIED:20250827T172715Z
UID:10019058-1911115800-1911123000@stadsboerderijosdorp.nl
SUMMARY:Ouder- en Kindochtend voor de allerkleinsten
DESCRIPTION:Inloop tussen 9.30 en 9.45 uur. Aanmelden is niet nodig. \nNeem ajb een stukje fruit mee\, dit delen de kinderen aan het einde van de ochtend.
URL:https://stadsboerderijosdorp.nl/event/ouder-en-kindochtend-voor-de-allerkleinsten-3/2030-07-24/
LOCATION:Stadsboerderij Osdorp\, Botteskerksingel 30b\, Amsterdam\, 1069 XT \, Nederland
CATEGORIES:Kinderen
ATTACH;FMTTYPE=image/jpeg:https://stadsboerderijosdorp.nl/wp-content/uploads/2021/05/huisregels-sep22-pdf.jpg
ORGANIZER;CN="Stadsboerderij Osdorp":MAILTO:info@stadsboerderijosdorp.nl
END:VEVENT
BEGIN:VEVENT
DTSTART;TZID=Europe/Amsterdam:20300731T093000
DTEND;TZID=Europe/Amsterdam:20300731T113000
DTSTAMP:20260421T043155
CREATED:20240508T140652Z
LAST-MODIFIED:20250827T172715Z
UID:10019060-1911720600-1911727800@stadsboerderijosdorp.nl
SUMMARY:Ouder- en Kindochtend voor de allerkleinsten
DESCRIPTION:Inloop tussen 9.30 en 9.45 uur. Aanmelden is niet nodig. \nNeem ajb een stukje fruit mee\, dit delen de kinderen aan het einde van de ochtend.
URL:https://stadsboerderijosdorp.nl/event/ouder-en-kindochtend-voor-de-allerkleinsten-3/2030-07-31/
LOCATION:Stadsboerderij Osdorp\, Botteskerksingel 30b\, Amsterdam\, 1069 XT \, Nederland
CATEGORIES:Kinderen
ATTACH;FMTTYPE=image/jpeg:https://stadsboerderijosdorp.nl/wp-content/uploads/2021/05/huisregels-sep22-pdf.jpg
ORGANIZER;CN="Stadsboerderij Osdorp":MAILTO:info@stadsboerderijosdorp.nl
END:VEVENT
BEGIN:VEVENT
DTSTART;TZID=Europe/Amsterdam:20300807T093000
DTEND;TZID=Europe/Amsterdam:20300807T113000
DTSTAMP:20260421T043155
CREATED:20240508T140652Z
LAST-MODIFIED:20250827T172715Z
UID:10019062-1912325400-1912332600@stadsboerderijosdorp.nl
SUMMARY:Ouder- en Kindochtend voor de allerkleinsten
DESCRIPTION:Inloop tussen 9.30 en 9.45 uur. Aanmelden is niet nodig. \nNeem ajb een stukje fruit mee\, dit delen de kinderen aan het einde van de ochtend.
URL:https://stadsboerderijosdorp.nl/event/ouder-en-kindochtend-voor-de-allerkleinsten-3/2030-08-07/
LOCATION:Stadsboerderij Osdorp\, Botteskerksingel 30b\, Amsterdam\, 1069 XT \, Nederland
CATEGORIES:Kinderen
ATTACH;FMTTYPE=image/jpeg:https://stadsboerderijosdorp.nl/wp-content/uploads/2021/05/huisregels-sep22-pdf.jpg
ORGANIZER;CN="Stadsboerderij Osdorp":MAILTO:info@stadsboerderijosdorp.nl
END:VEVENT
BEGIN:VEVENT
DTSTART;TZID=Europe/Amsterdam:20300814T093000
DTEND;TZID=Europe/Amsterdam:20300814T113000
DTSTAMP:20260421T043155
CREATED:20240508T140652Z
LAST-MODIFIED:20250827T172715Z
UID:10019066-1912930200-1912937400@stadsboerderijosdorp.nl
SUMMARY:Ouder- en Kindochtend voor de allerkleinsten
DESCRIPTION:Inloop tussen 9.30 en 9.45 uur. Aanmelden is niet nodig. \nNeem ajb een stukje fruit mee\, dit delen de kinderen aan het einde van de ochtend.
URL:https://stadsboerderijosdorp.nl/event/ouder-en-kindochtend-voor-de-allerkleinsten-3/2030-08-14/
LOCATION:Stadsboerderij Osdorp\, Botteskerksingel 30b\, Amsterdam\, 1069 XT \, Nederland
CATEGORIES:Kinderen
ATTACH;FMTTYPE=image/jpeg:https://stadsboerderijosdorp.nl/wp-content/uploads/2021/05/huisregels-sep22-pdf.jpg
ORGANIZER;CN="Stadsboerderij Osdorp":MAILTO:info@stadsboerderijosdorp.nl
END:VEVENT
BEGIN:VEVENT
DTSTART;TZID=Europe/Amsterdam:20300821T093000
DTEND;TZID=Europe/Amsterdam:20300821T113000
DTSTAMP:20260421T043155
CREATED:20240508T140652Z
LAST-MODIFIED:20250827T172715Z
UID:10019067-1913535000-1913542200@stadsboerderijosdorp.nl
SUMMARY:Ouder- en Kindochtend voor de allerkleinsten
DESCRIPTION:Inloop tussen 9.30 en 9.45 uur. Aanmelden is niet nodig. \nNeem ajb een stukje fruit mee\, dit delen de kinderen aan het einde van de ochtend.
URL:https://stadsboerderijosdorp.nl/event/ouder-en-kindochtend-voor-de-allerkleinsten-3/2030-08-21/
LOCATION:Stadsboerderij Osdorp\, Botteskerksingel 30b\, Amsterdam\, 1069 XT \, Nederland
CATEGORIES:Kinderen
ATTACH;FMTTYPE=image/jpeg:https://stadsboerderijosdorp.nl/wp-content/uploads/2021/05/huisregels-sep22-pdf.jpg
ORGANIZER;CN="Stadsboerderij Osdorp":MAILTO:info@stadsboerderijosdorp.nl
END:VEVENT
BEGIN:VEVENT
DTSTART;TZID=Europe/Amsterdam:20300828T093000
DTEND;TZID=Europe/Amsterdam:20300828T113000
DTSTAMP:20260421T043155
CREATED:20240508T140652Z
LAST-MODIFIED:20250827T172715Z
UID:10019081-1914139800-1914147000@stadsboerderijosdorp.nl
SUMMARY:Ouder- en Kindochtend voor de allerkleinsten
DESCRIPTION:Inloop tussen 9.30 en 9.45 uur. Aanmelden is niet nodig. \nNeem ajb een stukje fruit mee\, dit delen de kinderen aan het einde van de ochtend.
URL:https://stadsboerderijosdorp.nl/event/ouder-en-kindochtend-voor-de-allerkleinsten-3/2030-08-28/
LOCATION:Stadsboerderij Osdorp\, Botteskerksingel 30b\, Amsterdam\, 1069 XT \, Nederland
CATEGORIES:Kinderen
ATTACH;FMTTYPE=image/jpeg:https://stadsboerderijosdorp.nl/wp-content/uploads/2021/05/huisregels-sep22-pdf.jpg
ORGANIZER;CN="Stadsboerderij Osdorp":MAILTO:info@stadsboerderijosdorp.nl
END:VEVENT
BEGIN:VEVENT
DTSTART;TZID=Europe/Amsterdam:20300904T093000
DTEND;TZID=Europe/Amsterdam:20300904T113000
DTSTAMP:20260421T043155
CREATED:20240508T140652Z
LAST-MODIFIED:20250827T172715Z
UID:10019082-1914744600-1914751800@stadsboerderijosdorp.nl
SUMMARY:Ouder- en Kindochtend voor de allerkleinsten
DESCRIPTION:Inloop tussen 9.30 en 9.45 uur. Aanmelden is niet nodig. \nNeem ajb een stukje fruit mee\, dit delen de kinderen aan het einde van de ochtend.
URL:https://stadsboerderijosdorp.nl/event/ouder-en-kindochtend-voor-de-allerkleinsten-3/2030-09-04/
LOCATION:Stadsboerderij Osdorp\, Botteskerksingel 30b\, Amsterdam\, 1069 XT \, Nederland
CATEGORIES:Kinderen
ATTACH;FMTTYPE=image/jpeg:https://stadsboerderijosdorp.nl/wp-content/uploads/2021/05/huisregels-sep22-pdf.jpg
ORGANIZER;CN="Stadsboerderij Osdorp":MAILTO:info@stadsboerderijosdorp.nl
END:VEVENT
BEGIN:VEVENT
DTSTART;TZID=Europe/Amsterdam:20300911T093000
DTEND;TZID=Europe/Amsterdam:20300911T113000
DTSTAMP:20260421T043155
CREATED:20240508T140652Z
LAST-MODIFIED:20250827T172715Z
UID:10019083-1915349400-1915356600@stadsboerderijosdorp.nl
SUMMARY:Ouder- en Kindochtend voor de allerkleinsten
DESCRIPTION:Inloop tussen 9.30 en 9.45 uur. Aanmelden is niet nodig. \nNeem ajb een stukje fruit mee\, dit delen de kinderen aan het einde van de ochtend.
URL:https://stadsboerderijosdorp.nl/event/ouder-en-kindochtend-voor-de-allerkleinsten-3/2030-09-11/
LOCATION:Stadsboerderij Osdorp\, Botteskerksingel 30b\, Amsterdam\, 1069 XT \, Nederland
CATEGORIES:Kinderen
ATTACH;FMTTYPE=image/jpeg:https://stadsboerderijosdorp.nl/wp-content/uploads/2021/05/huisregels-sep22-pdf.jpg
ORGANIZER;CN="Stadsboerderij Osdorp":MAILTO:info@stadsboerderijosdorp.nl
END:VEVENT
BEGIN:VEVENT
DTSTART;TZID=Europe/Amsterdam:20300918T093000
DTEND;TZID=Europe/Amsterdam:20300918T113000
DTSTAMP:20260421T043155
CREATED:20240508T140652Z
LAST-MODIFIED:20250827T172715Z
UID:10019084-1915954200-1915961400@stadsboerderijosdorp.nl
SUMMARY:Ouder- en Kindochtend voor de allerkleinsten
DESCRIPTION:Inloop tussen 9.30 en 9.45 uur. Aanmelden is niet nodig. \nNeem ajb een stukje fruit mee\, dit delen de kinderen aan het einde van de ochtend.
URL:https://stadsboerderijosdorp.nl/event/ouder-en-kindochtend-voor-de-allerkleinsten-3/2030-09-18/
LOCATION:Stadsboerderij Osdorp\, Botteskerksingel 30b\, Amsterdam\, 1069 XT \, Nederland
CATEGORIES:Kinderen
ATTACH;FMTTYPE=image/jpeg:https://stadsboerderijosdorp.nl/wp-content/uploads/2021/05/huisregels-sep22-pdf.jpg
ORGANIZER;CN="Stadsboerderij Osdorp":MAILTO:info@stadsboerderijosdorp.nl
END:VEVENT
BEGIN:VEVENT
DTSTART;TZID=Europe/Amsterdam:20300925T093000
DTEND;TZID=Europe/Amsterdam:20300925T113000
DTSTAMP:20260421T043155
CREATED:20240508T140652Z
LAST-MODIFIED:20250827T172715Z
UID:10019085-1916559000-1916566200@stadsboerderijosdorp.nl
SUMMARY:Ouder- en Kindochtend voor de allerkleinsten
DESCRIPTION:Inloop tussen 9.30 en 9.45 uur. Aanmelden is niet nodig. \nNeem ajb een stukje fruit mee\, dit delen de kinderen aan het einde van de ochtend.
URL:https://stadsboerderijosdorp.nl/event/ouder-en-kindochtend-voor-de-allerkleinsten-3/2030-09-25/
LOCATION:Stadsboerderij Osdorp\, Botteskerksingel 30b\, Amsterdam\, 1069 XT \, Nederland
CATEGORIES:Kinderen
ATTACH;FMTTYPE=image/jpeg:https://stadsboerderijosdorp.nl/wp-content/uploads/2021/05/huisregels-sep22-pdf.jpg
ORGANIZER;CN="Stadsboerderij Osdorp":MAILTO:info@stadsboerderijosdorp.nl
END:VEVENT
BEGIN:VEVENT
DTSTART;TZID=Europe/Amsterdam:20301002T093000
DTEND;TZID=Europe/Amsterdam:20301002T113000
DTSTAMP:20260421T043155
CREATED:20240508T140652Z
LAST-MODIFIED:20250827T172715Z
UID:10019086-1917163800-1917171000@stadsboerderijosdorp.nl
SUMMARY:Ouder- en Kindochtend voor de allerkleinsten
DESCRIPTION:Inloop tussen 9.30 en 9.45 uur. Aanmelden is niet nodig. \nNeem ajb een stukje fruit mee\, dit delen de kinderen aan het einde van de ochtend.
URL:https://stadsboerderijosdorp.nl/event/ouder-en-kindochtend-voor-de-allerkleinsten-3/2030-10-02/
LOCATION:Stadsboerderij Osdorp\, Botteskerksingel 30b\, Amsterdam\, 1069 XT \, Nederland
CATEGORIES:Kinderen
ATTACH;FMTTYPE=image/jpeg:https://stadsboerderijosdorp.nl/wp-content/uploads/2021/05/huisregels-sep22-pdf.jpg
ORGANIZER;CN="Stadsboerderij Osdorp":MAILTO:info@stadsboerderijosdorp.nl
END:VEVENT
BEGIN:VEVENT
DTSTART;TZID=Europe/Amsterdam:20301009T093000
DTEND;TZID=Europe/Amsterdam:20301009T113000
DTSTAMP:20260421T043155
CREATED:20240508T140652Z
LAST-MODIFIED:20250827T172715Z
UID:10019087-1917768600-1917775800@stadsboerderijosdorp.nl
SUMMARY:Ouder- en Kindochtend voor de allerkleinsten
DESCRIPTION:Inloop tussen 9.30 en 9.45 uur. Aanmelden is niet nodig. \nNeem ajb een stukje fruit mee\, dit delen de kinderen aan het einde van de ochtend.
URL:https://stadsboerderijosdorp.nl/event/ouder-en-kindochtend-voor-de-allerkleinsten-3/2030-10-09/
LOCATION:Stadsboerderij Osdorp\, Botteskerksingel 30b\, Amsterdam\, 1069 XT \, Nederland
CATEGORIES:Kinderen
ATTACH;FMTTYPE=image/jpeg:https://stadsboerderijosdorp.nl/wp-content/uploads/2021/05/huisregels-sep22-pdf.jpg
ORGANIZER;CN="Stadsboerderij Osdorp":MAILTO:info@stadsboerderijosdorp.nl
END:VEVENT
END:VCALENDAR